Package: Cogito Version: 1.12.0 Command: /home/biocbuild/R/R/bin/R CMD INSTALL Cogito StartedAt: 2025-03-31 20:45:40 -0000 (Mon, 31 Mar 2025) EndedAt: 2025-03-31 20:46:28 -0000 (Mon, 31 Mar 2025) EllapsedTime: 47.3 seconds RetCode: 0 Status: OK