Package: Cogito Version: 1.12.0 Command: /home/biocbuild/R/R/bin/R CMD build --keep-empty-dirs --no-resave-data Cogito StartedAt: 2025-03-31 22:39:49 -0000 (Mon, 31 Mar 2025) EndedAt: 2025-03-31 22:41:15 -0000 (Mon, 31 Mar 2025) EllapsedTime: 86.0 seconds RetCode: 0 Status: OK PackageFile: Cogito_1.12.0.tar.gz PackageFileSize: 892.8 KiB