Package: CoSIA Version: 1.6.0 Command: rm -rf CoSIA.buildbin-libdir && mkdir CoSIA.buildbin-libdir && /Users/biocbuild/BBS/utils/build-universal.sh CoSIA_1.6.0.tar.gz /Library/Frameworks/R.framework/Resources/bin/R CoSIA.buildbin-libdir StartedAt: 2025-04-01 11:40:01 -0400 (Tue, 01 Apr 2025) EndedAt: 2025-04-01 11:40:40 -0400 (Tue, 01 Apr 2025) EllapsedTime: 39.6 seconds RetCode: 0 Status: OK PackageFile: CoSIA_1.6.0.tgz PackageFileSize: 1.275 MiB