Package: ClusterSignificance Version: 1.34.0 Command: /Library/Frameworks/R.framework/Resources/bin/R CMD check --install=check:ClusterSignificance.install-out.txt --library=/Library/Frameworks/R.framework/Resources/library --no-vignettes --timings ClusterSignificance_1.34.0.tar.gz StartedAt: 2025-04-01 00:55:33 -0400 (Tue, 01 Apr 2025) EndedAt: 2025-04-01 00:56:44 -0400 (Tue, 01 Apr 2025) EllapsedTime: 71.4 seconds RetCode: 0 Status: OK CheckDir: ClusterSignificance.Rcheck Warnings: 0