Package: ClusterSignificance Version: 1.34.0 Command: rm -rf ClusterSignificance.buildbin-libdir && mkdir ClusterSignificance.buildbin-libdir && /Users/biocbuild/BBS/utils/build-universal.sh ClusterSignificance_1.34.0.tar.gz /Library/Frameworks/R.framework/Resources/bin/R ClusterSignificance.buildbin-libdir StartedAt: 2025-04-01 11:37:21 -0400 (Tue, 01 Apr 2025) EndedAt: 2025-04-01 11:37:32 -0400 (Tue, 01 Apr 2025) EllapsedTime: 10.8 seconds RetCode: 0 Status: OK PackageFile: ClusterSignificance_1.34.0.tgz PackageFileSize: 2.296 MiB