Package: ClusterJudge Version: 1.28.0 Command: /home/biocbuild/R/R/bin/R CMD build --keep-empty-dirs --no-resave-data ClusterJudge StartedAt: 2025-03-31 22:35:29 -0000 (Mon, 31 Mar 2025) EndedAt: 2025-03-31 22:36:32 -0000 (Mon, 31 Mar 2025) EllapsedTime: 63.0 seconds RetCode: 0 Status: OK PackageFile: ClusterJudge_1.28.0.tar.gz PackageFileSize: 865.1 KiB