Package: ClusterJudge Version: 1.28.0 Command: /Library/Frameworks/R.framework/Resources/bin/R CMD INSTALL ClusterJudge StartedAt: 2025-03-31 15:10:50 -0400 (Mon, 31 Mar 2025) EndedAt: 2025-03-31 15:11:10 -0400 (Mon, 31 Mar 2025) EllapsedTime: 19.8 seconds RetCode: 0 Status: OK