Package: ClusterJudge Version: 1.28.0 Command: /Library/Frameworks/R.framework/Resources/bin/R CMD check --install=check:ClusterJudge.install-out.txt --library=/Library/Frameworks/R.framework/Resources/library --no-vignettes --timings ClusterJudge_1.28.0.tar.gz StartedAt: 2025-04-01 00:53:29 -0400 (Tue, 01 Apr 2025) EndedAt: 2025-04-01 00:58:44 -0400 (Tue, 01 Apr 2025) EllapsedTime: 314.7 seconds RetCode: 1 Status: ERROR CheckDir: ClusterJudge.Rcheck Warnings: NA