Package: ClusterJudge Version: 1.28.0 Command: rm -rf ClusterJudge.buildbin-libdir && mkdir ClusterJudge.buildbin-libdir && /Users/biocbuild/BBS/utils/build-universal.sh ClusterJudge_1.28.0.tar.gz /Library/Frameworks/R.framework/Resources/bin/R ClusterJudge.buildbin-libdir StartedAt: 2025-04-01 11:37:18 -0400 (Tue, 01 Apr 2025) EndedAt: 2025-04-01 11:37:28 -0400 (Tue, 01 Apr 2025) EllapsedTime: 9.8 seconds RetCode: 0 Status: OK PackageFile: ClusterJudge_1.28.0.tgz PackageFileSize: 4.398 MiB