Package: ClusterJudge Version: 1.28.0 Command: /Library/Frameworks/R.framework/Resources/bin/R CMD INSTALL ClusterJudge StartedAt: 2025-03-31 15:19:42 -0400 (Mon, 31 Mar 2025) EndedAt: 2025-03-31 15:19:47 -0400 (Mon, 31 Mar 2025) EllapsedTime: 4.6 seconds RetCode: 0 Status: OK