Package: ClusterFoldSimilarity Version: 1.2.0 Command: /home/biocbuild/R/R/bin/R CMD check --install=check:ClusterFoldSimilarity.install-out.txt --library=/home/biocbuild/R/R/site-library --no-vignettes --timings ClusterFoldSimilarity_1.2.0.tar.gz StartedAt: 2025-04-01 05:08:51 -0000 (Tue, 01 Apr 2025) EndedAt: 2025-04-01 05:13:48 -0000 (Tue, 01 Apr 2025) EllapsedTime: 297.3 seconds RetCode: 0 Status: WARNINGS CheckDir: ClusterFoldSimilarity.Rcheck Warnings: 1