Package: ClustIRR Version: 1.4.0 Command: F:\biocbuild\bbs-3.20-bioc\R\bin\R.exe CMD INSTALL ClustIRR StartedAt: 2025-03-31 15:45:00 -0400 (Mon, 31 Mar 2025) EndedAt: 2025-03-31 15:48:25 -0400 (Mon, 31 Mar 2025) EllapsedTime: 205.0 seconds RetCode: 0 Status: OK