Package: ClustIRR Version: 1.4.0 Command: F:\biocbuild\bbs-3.20-bioc\R\bin\R.exe CMD check --no-multiarch --install=check:ClustIRR.install-out.txt --library=F:\biocbuild\bbs-3.20-bioc\R\library --no-vignettes --timings ClustIRR_1.4.0.tar.gz StartedAt: 2025-03-28 00:25:13 -0400 (Fri, 28 Mar 2025) EndedAt: 2025-03-28 00:37:27 -0400 (Fri, 28 Mar 2025) EllapsedTime: 733.9 seconds RetCode: 0 Status: OK CheckDir: ClustIRR.Rcheck Warnings: 0