Package: ClustIRR Version: 1.4.0 Command: chmod a+r ClustIRR -R && F:\biocbuild\bbs-3.20-bioc\R\bin\R.exe CMD build --keep-empty-dirs --no-resave-data ClustIRR StartedAt: 2025-03-31 18:04:02 -0400 (Mon, 31 Mar 2025) EndedAt: 2025-03-31 18:17:53 -0400 (Mon, 31 Mar 2025) EllapsedTime: 831.3 seconds RetCode: 1 Status: ERROR PackageFile: None PackageFileSize: NA