Package: ClustAll Version: 1.2.0 Command: /Library/Frameworks/R.framework/Resources/bin/R CMD INSTALL ClustAll StartedAt: 2025-03-31 16:22:54 -0400 (Mon, 31 Mar 2025) EndedAt: 2025-03-31 16:23:45 -0400 (Mon, 31 Mar 2025) EllapsedTime: 51.9 seconds RetCode: 0 Status: OK