Package: ClustAll Version: 1.2.0 Command: /Library/Frameworks/R.framework/Resources/bin/R CMD build --keep-empty-dirs --no-resave-data ClustAll StartedAt: 2025-03-31 17:45:21 -0400 (Mon, 31 Mar 2025) EndedAt: 2025-03-31 17:54:58 -0400 (Mon, 31 Mar 2025) EllapsedTime: 576.6 seconds RetCode: 0 Status: OK PackageFile: ClustAll_1.2.0.tar.gz PackageFileSize: 2.943 MiB