Package: ClustAll Version: 1.2.0 Command: /Library/Frameworks/R.framework/Resources/bin/R CMD INSTALL ClustAll StartedAt: 2025-03-31 17:38:49 -0400 (Mon, 31 Mar 2025) EndedAt: 2025-03-31 17:39:15 -0400 (Mon, 31 Mar 2025) EllapsedTime: 25.7 seconds RetCode: 0 Status: OK