Package: ClustAll Version: 1.2.0 Command: /Library/Frameworks/R.framework/Resources/bin/R CMD check --install=check:ClustAll.install-out.txt --library=/Library/Frameworks/R.framework/Resources/library --no-vignettes --timings ClustAll_1.2.0.tar.gz StartedAt: 2025-04-01 14:25:13 -0400 (Tue, 01 Apr 2025) EndedAt: 2025-04-01 14:29:10 -0400 (Tue, 01 Apr 2025) EllapsedTime: 236.7 seconds RetCode: 0 Status: OK CheckDir: ClustAll.Rcheck Warnings: 0