Package: Clomial Version: 1.42.0 Command: /home/biocbuild/R/R/bin/R CMD INSTALL Clomial StartedAt: 2025-03-31 20:14:16 -0000 (Mon, 31 Mar 2025) EndedAt: 2025-03-31 20:14:46 -0000 (Mon, 31 Mar 2025) EllapsedTime: 29.5 seconds RetCode: 0 Status: OK