Package: Clomial Version: 1.42.0 Command: /home/biocbuild/R/R/bin/R CMD build --keep-empty-dirs --no-resave-data Clomial StartedAt: 2025-03-31 22:34:05 -0000 (Mon, 31 Mar 2025) EndedAt: 2025-03-31 22:34:25 -0000 (Mon, 31 Mar 2025) EllapsedTime: 20.0 seconds RetCode: 0 Status: OK PackageFile: Clomial_1.42.0.tar.gz PackageFileSize: 1.454 MiB