Package: Clomial Version: 1.42.0 Command: chmod a+r Clomial -R && F:\biocbuild\bbs-3.20-bioc\R\bin\R.exe CMD build --keep-empty-dirs --no-resave-data Clomial StartedAt: 2025-03-31 18:02:20 -0400 (Mon, 31 Mar 2025) EndedAt: 2025-03-31 18:02:54 -0400 (Mon, 31 Mar 2025) EllapsedTime: 33.2 seconds RetCode: 0 Status: OK PackageFile: Clomial_1.42.0.tar.gz PackageFileSize: 1.353 MiB