Package: Clomial Version: 1.42.0 Command: /Library/Frameworks/R.framework/Resources/bin/R CMD check --install=check:Clomial.install-out.txt --library=/Library/Frameworks/R.framework/Resources/library --no-vignettes --timings Clomial_1.42.0.tar.gz StartedAt: 2025-04-01 00:50:50 -0400 (Tue, 01 Apr 2025) EndedAt: 2025-04-01 00:56:18 -0400 (Tue, 01 Apr 2025) EllapsedTime: 327.5 seconds RetCode: 0 Status: OK CheckDir: Clomial.Rcheck Warnings: 0