Package: Clomial Version: 1.42.0 Command: /Library/Frameworks/R.framework/Resources/bin/R CMD build --keep-empty-dirs --no-resave-data Clomial StartedAt: 2025-03-31 20:51:16 -0400 (Mon, 31 Mar 2025) EndedAt: 2025-03-31 20:51:36 -0400 (Mon, 31 Mar 2025) EllapsedTime: 20.4 seconds RetCode: 0 Status: OK PackageFile: Clomial_1.42.0.tar.gz PackageFileSize: 1.461 MiB