Package: CleanUpRNAseq Version: 1.0.0 Command: /home/biocbuild/R/R/bin/R CMD build --keep-empty-dirs --no-resave-data CleanUpRNAseq StartedAt: 2025-03-31 22:32:05 -0000 (Mon, 31 Mar 2025) EndedAt: 2025-03-31 22:34:44 -0000 (Mon, 31 Mar 2025) EllapsedTime: 159.1 seconds RetCode: 0 Status: OK PackageFile: CleanUpRNAseq_1.0.0.tar.gz PackageFileSize: 2.005 MiB