Package: ClassifyR Version: 3.10.10 Command: rm -rf ClassifyR.buildbin-libdir && mkdir ClassifyR.buildbin-libdir && F:\biocbuild\bbs-3.20-bioc\R\bin\R.exe CMD INSTALL --build --library=ClassifyR.buildbin-libdir ClassifyR_3.10.10.tar.gz StartedAt: 2025-04-01 07:54:49 -0400 (Tue, 01 Apr 2025) EndedAt: 2025-04-01 07:56:17 -0400 (Tue, 01 Apr 2025) EllapsedTime: 88.1 seconds RetCode: 0 Status: OK PackageFile: ClassifyR_3.10.10.zip PackageFileSize: 2.21 MiB