Package: CiteFuse Version: 1.18.0 Command: chmod a+r CiteFuse -R && F:\biocbuild\bbs-3.20-bioc\R\bin\R.exe CMD build --keep-empty-dirs --no-resave-data CiteFuse StartedAt: 2025-03-31 18:00:35 -0400 (Mon, 31 Mar 2025) EndedAt: 2025-03-31 18:04:14 -0400 (Mon, 31 Mar 2025) EllapsedTime: 218.8 seconds RetCode: 0 Status: OK PackageFile: CiteFuse_1.18.0.tar.gz PackageFileSize: 2.381 MiB