Package: CiteFuse Version: 1.18.0 Command: /home/biocbuild/bbs-3.20-bioc/R/bin/R CMD INSTALL CiteFuse StartedAt: 2025-03-31 15:54:41 -0400 (Mon, 31 Mar 2025) EndedAt: 2025-03-31 15:55:26 -0400 (Mon, 31 Mar 2025) EllapsedTime: 44.9 seconds RetCode: 0 Status: OK