Package: CiteFuse Version: 1.18.0 Command: /home/biocbuild/bbs-3.20-bioc/R/bin/R CMD check --install=check:CiteFuse.install-out.txt --library=/home/biocbuild/bbs-3.20-bioc/R/site-library --timings CiteFuse_1.18.0.tar.gz StartedAt: 2025-03-31 20:47:44 -0400 (Mon, 31 Mar 2025) EndedAt: 2025-03-31 20:53:47 -0400 (Mon, 31 Mar 2025) EllapsedTime: 363.4 seconds RetCode: 0 Status: OK CheckDir: CiteFuse.Rcheck Warnings: 0