Package: CircSeqAlignTk Version: 1.8.0 Command: F:\biocbuild\bbs-3.20-bioc\R\bin\R.exe CMD check --no-multiarch --install=check:CircSeqAlignTk.install-out.txt --library=F:\biocbuild\bbs-3.20-bioc\R\library --no-vignettes --timings CircSeqAlignTk_1.8.0.tar.gz StartedAt: 2025-04-01 00:03:24 -0400 (Tue, 01 Apr 2025) EndedAt: 2025-04-01 00:09:51 -0400 (Tue, 01 Apr 2025) EllapsedTime: 386.7 seconds RetCode: 1 Status: ERROR CheckDir: CircSeqAlignTk.Rcheck Warnings: NA