Package: ChromSCape Version: 1.16.0 Command: /home/biocbuild/R/R/bin/R CMD INSTALL ChromSCape StartedAt: 2025-03-31 21:11:16 -0000 (Mon, 31 Mar 2025) EndedAt: 2025-03-31 21:12:23 -0000 (Mon, 31 Mar 2025) EllapsedTime: 67.1 seconds RetCode: 0 Status: OK