Package: ChromSCape Version: 1.16.0 Command: /home/biocbuild/R/R/bin/R CMD check --install=check:ChromSCape.install-out.txt --library=/home/biocbuild/R/R/site-library --no-vignettes --timings ChromSCape_1.16.0.tar.gz StartedAt: 2025-04-01 05:02:09 -0000 (Tue, 01 Apr 2025) EndedAt: 2025-04-01 05:14:24 -0000 (Tue, 01 Apr 2025) EllapsedTime: 734.6 seconds RetCode: 1 Status: ERROR CheckDir: ChromSCape.Rcheck Warnings: NA