Package: ChromSCape Version: 1.16.0 Command: /home/biocbuild/R/R/bin/R CMD build --keep-empty-dirs --no-resave-data ChromSCape StartedAt: 2025-03-31 22:26:14 -0000 (Mon, 31 Mar 2025) EndedAt: 2025-03-31 22:27:39 -0000 (Mon, 31 Mar 2025) EllapsedTime: 85.0 seconds RetCode: 0 Status: OK PackageFile: ChromSCape_1.16.0.tar.gz PackageFileSize: 5.326 MiB