Package: ChromSCape Version: 1.16.0 Command: F:\biocbuild\bbs-3.20-bioc\R\bin\R.exe CMD check --no-multiarch --install=check:ChromSCape.install-out.txt --library=F:\biocbuild\bbs-3.20-bioc\R\library --no-vignettes --timings ChromSCape_1.16.0.tar.gz StartedAt: 2025-04-01 00:00:59 -0400 (Tue, 01 Apr 2025) EndedAt: 2025-04-01 00:14:36 -0400 (Tue, 01 Apr 2025) EllapsedTime: 817.3 seconds RetCode: 1 Status: ERROR CheckDir: ChromSCape.Rcheck Warnings: NA