Package: ChromSCape Version: 1.16.0 Command: /Library/Frameworks/R.framework/Resources/bin/R CMD INSTALL ChromSCape StartedAt: 2025-03-31 16:41:22 -0400 (Mon, 31 Mar 2025) EndedAt: 2025-03-31 16:42:57 -0400 (Mon, 31 Mar 2025) EllapsedTime: 94.4 seconds RetCode: 0 Status: OK