Package: ChromSCape Version: 1.16.0 Command: /Library/Frameworks/R.framework/Resources/bin/R CMD check --install=check:ChromSCape.install-out.txt --library=/Library/Frameworks/R.framework/Resources/library --no-vignettes --timings ChromSCape_1.16.0.tar.gz StartedAt: 2025-04-01 00:42:26 -0400 (Tue, 01 Apr 2025) EndedAt: 2025-04-01 01:02:55 -0400 (Tue, 01 Apr 2025) EllapsedTime: 1228.9 seconds RetCode: 1 Status: ERROR CheckDir: ChromSCape.Rcheck Warnings: NA