Package: ChromSCape Version: 1.16.0 Command: /Library/Frameworks/R.framework/Resources/bin/R CMD build --keep-empty-dirs --no-resave-data ChromSCape StartedAt: 2025-03-31 17:40:52 -0400 (Mon, 31 Mar 2025) EndedAt: 2025-03-31 17:43:19 -0400 (Mon, 31 Mar 2025) EllapsedTime: 147.5 seconds RetCode: 0 Status: OK PackageFile: ChromSCape_1.16.0.tar.gz PackageFileSize: 5.303 MiB