Package: ChromHeatMap Version: 1.60.0 Command: /home/biocbuild/bbs-3.20-bioc/R/bin/R CMD INSTALL ChromHeatMap StartedAt: 2025-03-31 15:24:04 -0400 (Mon, 31 Mar 2025) EndedAt: 2025-03-31 15:24:37 -0400 (Mon, 31 Mar 2025) EllapsedTime: 32.5 seconds RetCode: 0 Status: OK