Package: ChemmineR Version: 3.58.0 Command: /home/biocbuild/R/R/bin/R CMD INSTALL ChemmineR StartedAt: 2025-03-31 21:03:51 -0000 (Mon, 31 Mar 2025) EndedAt: 2025-03-31 21:04:26 -0000 (Mon, 31 Mar 2025) EllapsedTime: 35.0 seconds RetCode: 0 Status: OK