Package: ChemmineR Version: 3.58.0 Command: /home/biocbuild/R/R/bin/R CMD build --keep-empty-dirs --no-resave-data ChemmineR StartedAt: 2025-03-31 22:20:19 -0000 (Mon, 31 Mar 2025) EndedAt: 2025-03-31 22:21:26 -0000 (Mon, 31 Mar 2025) EllapsedTime: 67.0 seconds RetCode: 0 Status: OK PackageFile: ChemmineR_3.58.0.tar.gz PackageFileSize: 1.642 MiB