Package: ChemmineR Version: 3.58.0 Command: /Library/Frameworks/R.framework/Resources/bin/R CMD build --keep-empty-dirs --no-resave-data ChemmineR StartedAt: 2025-03-31 20:25:23 -0400 (Mon, 31 Mar 2025) EndedAt: 2025-03-31 20:26:27 -0400 (Mon, 31 Mar 2025) EllapsedTime: 64.1 seconds RetCode: 0 Status: OK PackageFile: ChemmineR_3.58.0.tar.gz PackageFileSize: 2.245 MiB