Package: ChIPsim Version: 1.60.0 Command: /home/biocbuild/bbs-3.20-bioc/R/bin/R CMD INSTALL ChIPsim StartedAt: 2025-03-31 15:29:51 -0400 (Mon, 31 Mar 2025) EndedAt: 2025-03-31 15:30:19 -0400 (Mon, 31 Mar 2025) EllapsedTime: 27.5 seconds RetCode: 0 Status: OK