Package: ChIPsim Version: 1.60.0 Command: /Library/Frameworks/R.framework/Resources/bin/R CMD check --install=check:ChIPsim.install-out.txt --library=/Library/Frameworks/R.framework/Resources/library --no-vignettes --timings ChIPsim_1.60.0.tar.gz StartedAt: 2025-04-01 14:02:24 -0400 (Tue, 01 Apr 2025) EndedAt: 2025-04-01 14:06:21 -0400 (Tue, 01 Apr 2025) EllapsedTime: 237.4 seconds RetCode: 0 Status: OK CheckDir: ChIPsim.Rcheck Warnings: 0