Package: ChIPsim Version: 1.60.0 Command: /Library/Frameworks/R.framework/Resources/bin/R CMD build --keep-empty-dirs --no-resave-data ChIPsim StartedAt: 2025-03-31 20:32:42 -0400 (Mon, 31 Mar 2025) EndedAt: 2025-03-31 20:34:00 -0400 (Mon, 31 Mar 2025) EllapsedTime: 77.9 seconds RetCode: 0 Status: OK PackageFile: ChIPsim_1.60.0.tar.gz PackageFileSize: 648.2 KiB