Package: ChIPseqR Version: 1.60.0 Command: /home/biocbuild/bbs-3.20-bioc/R/bin/R CMD check --install=check:ChIPseqR.install-out.txt --library=/home/biocbuild/bbs-3.20-bioc/R/site-library --timings ChIPseqR_1.60.0.tar.gz StartedAt: 2025-03-31 20:43:53 -0400 (Mon, 31 Mar 2025) EndedAt: 2025-03-31 20:48:38 -0400 (Mon, 31 Mar 2025) EllapsedTime: 285.3 seconds RetCode: 0 Status: OK CheckDir: ChIPseqR.Rcheck Warnings: 0