Package: ChIPpeakAnno Version: 3.40.0 Command: /home/biocbuild/R/R/bin/R CMD INSTALL ChIPpeakAnno StartedAt: 2025-03-31 20:57:21 -0000 (Mon, 31 Mar 2025) EndedAt: 2025-03-31 20:59:30 -0000 (Mon, 31 Mar 2025) EllapsedTime: 128.9 seconds RetCode: 0 Status: OK