Package: ChIPpeakAnno Version: 3.40.0 Command: /Library/Frameworks/R.framework/Resources/bin/R CMD INSTALL ChIPpeakAnno StartedAt: 2025-03-31 16:16:48 -0400 (Mon, 31 Mar 2025) EndedAt: 2025-03-31 16:20:05 -0400 (Mon, 31 Mar 2025) EllapsedTime: 196.9 seconds RetCode: 0 Status: OK