Package: ChIPpeakAnno Version: 3.40.0 Command: rm -rf ChIPpeakAnno.buildbin-libdir && mkdir ChIPpeakAnno.buildbin-libdir && /Users/biocbuild/BBS/utils/build-universal.sh ChIPpeakAnno_3.40.0.tar.gz /Library/Frameworks/R.framework/Resources/bin/R ChIPpeakAnno.buildbin-libdir StartedAt: 2025-04-02 13:41:51 -0400 (Wed, 02 Apr 2025) EndedAt: 2025-04-02 13:44:38 -0400 (Wed, 02 Apr 2025) EllapsedTime: 167.1 seconds RetCode: 0 Status: OK PackageFile: ChIPpeakAnno_3.40.0.tgz PackageFileSize: 22.57 MiB