Package: ChIPexoQual Version: 1.30.0 Command: F:\biocbuild\bbs-3.20-bioc\R\bin\R.exe CMD INSTALL ChIPexoQual StartedAt: 2025-03-31 16:17:05 -0400 (Mon, 31 Mar 2025) EndedAt: 2025-03-31 16:18:13 -0400 (Mon, 31 Mar 2025) EllapsedTime: 68.1 seconds RetCode: 0 Status: OK