Package: ChIPexoQual Version: 1.30.0 Command: /Library/Frameworks/R.framework/Resources/bin/R CMD build --keep-empty-dirs --no-resave-data ChIPexoQual StartedAt: 2025-03-31 20:28:06 -0400 (Mon, 31 Mar 2025) EndedAt: 2025-03-31 20:31:09 -0400 (Mon, 31 Mar 2025) EllapsedTime: 182.9 seconds RetCode: 0 Status: OK PackageFile: ChIPexoQual_1.30.0.tar.gz PackageFileSize: 2.456 MiB