Package: ChIPanalyser Version: 1.28.0 Command: /Library/Frameworks/R.framework/Resources/bin/R CMD check --install=check:ChIPanalyser.install-out.txt --library=/Library/Frameworks/R.framework/Resources/library --no-vignettes --timings ChIPanalyser_1.28.0.tar.gz StartedAt: 2025-04-01 00:38:43 -0400 (Tue, 01 Apr 2025) EndedAt: 2025-04-01 00:50:50 -0400 (Tue, 01 Apr 2025) EllapsedTime: 727.0 seconds RetCode: 0 Status: OK CheckDir: ChIPanalyser.Rcheck Warnings: 0